BEGIN:VCALENDAR
VERSION:2.0
PRODID:-//hacksw/handcal//NONSGML v1.0//EN
BEGIN:VEVENT
SUMMARY:Journees activites Noel 2021
UID:5f1aba9a-b856-44f1-92ca-119ff5b748b4
DTSTART:20211222T073000Z
DTEND:20211222T160000Z
LOCATION:Localisation   
CATEGORIES:Sportif
STATUS:
DESCRIPTION:<p>Le club de l'AS TAMARIS organise des
 journees multi-activites du lundi 20 au jeudi 23 decembre
 2021 pour les gymnastes inscrites dans les groupes FO, CH1, CH2 et
 CH3.</p>
 
 <p>Ce stage sera different des autres : il fonctionne par
 demi-journee (une journee = une demi-journee GYM + une demi journee
 ACTIVITE).<br />
 Votre fille peut venir uniquement sur la
 demi-journee GYM (gratuit) et/ou sur la demi-journee d'activites
 (5€) et/ou sur la journee complete (5€).</p>
 
 <p>Nous limitons
 chaque demi-journee a <u>25 gymnastes</u>.</p>
 
 <p><strong>Pour
 inscrire votre fille sur plusieurs (demi-)journees, vous devrez
 remplir un formulaire par date
 choisie.</strong></p>
 
 <p>L'inscription pour une (demi-)journee sera
 validee lorsque vous recevrez une notification de
 validation.</p>
 
 <p><span style="color:#e74c3c;"><strong>Tarif : 5€
 la demi-journee
 d'activites</strong></span></p>
 
 <p> </p>
 
 <p>Journee type :<br />
 -
 8h30 a 9h30 : Accueil des gymnastes au gymnase Karine BOUCHER<br />
 -
 9h30 a 12h00 : Gym ou Activite du matin<br />
 pour les gymnastes en
 journee complete : - 12h00 a 14h00 : Pique-nique sur place (a
 fournir) et temps calme<br />
 - 14h00 a 16h30 : Gym ou Activite de
 l'apres-midi<br />
 - 16h30 a 17h00 : Gouter (fourni par le club)<br
 />
 - <strong>17h00 </strong>: Accueil du soir<br />
 (Les horaires et
 les activites sont susceptibles de modification et vous seront
 confirmes ulterieurement)</p>
 
URL;VALUE=URI:https://www.astamaris-gym.com/evenements/2021/12/22/journees-activites-noel-2021-1555142
END:VEVENT
END:VCALENDAR
