BEGIN:VCALENDAR
VERSION:2.0
PRODID:-//hacksw/handcal//NONSGML v1.0//EN
BEGIN:VEVENT
SUMMARY:Reunion de bureau
UID:2bd77934-3536-4087-b52d-2d5144673d92
DTSTART:20260402T183000Z
DTEND:20260402T203000Z
LOCATION:Localisation salle des tamaris 45800 saint jean de braye
CATEGORIES:Administratif
STATUS:
DESCRIPTION:<p>Bonjour a tous, </p>
 
 <p>Petit rappel pour notre
 reunion de bureau qui aura lieu jeudi 2 avril a 20h30, <strong>au
 bureau des tamaris </strong>ou<strong> en
 visio.</strong></p>
 
 <p>Voici les elements qui y seront
 abordes</p>
 
 <p>-Section sportive</p>
 
 <p>-Competition du 1/2/3 mai
 :</p>
 
 <ul>
 	<li>tarifs entree</li>
 	<li>tarifs
 buvette</li>
 	<li>organisation general</li>
 </ul>
 
 <p>-Autres sujets
 si necessaire </p>
 
 <p>A
 demain </p>
 
 <p>Anais</p>
 
 <p> </p>
 
 <p> </p>
 
 <p> </p>
URL;VALUE=URI:https://www.astamaris-gym.com/evenements/2026/04/02/reunion-de-bureau-2436349
END:VEVENT
END:VCALENDAR
