BEGIN:VCALENDAR
VERSION:2.0
PRODID:-//hacksw/handcal//NONSGML v1.0//EN
BEGIN:VEVENT
SUMMARY:Paques - groupes APE & Babygym
UID:6e9d36b6-64cc-4c5a-b4d3-9d5238d45734
DTSTART:20260408T080000Z
DTEND:20260408T100000Z
LOCATION:Localisation   
CATEGORIES:Sportif
STATUS:
DESCRIPTION:<p>Nous avons le plaisir de vous inviter a notre
 animation speciale <b>Paques</b>, le <b>mercredi 8 avril de 10h00 a
 12h00 🐣</b></p>
 
 <p>Cet evenement est reserve a nos jeunes
 gymnastes des groupes <b>APE et Babygym</b>.</p>
 
 <p><b>Reponse
 souhaitee avant le 29 mars :</b> Merci de nous confirmer la presence
 (ou l'absence) de votre enfant via suivant :</p>
URL;VALUE=URI:https://www.astamaris-gym.com/evenements/2026/04/08/paques-groupes-ape-babygym-2427255
END:VEVENT
END:VCALENDAR
