BEGIN:VCALENDAR
VERSION:2.0
PRODID:-//hacksw/handcal//NONSGML v1.0//EN
BEGIN:VEVENT
SUMMARY:Championnat Regional par equipes Federale A (finalite regional)
UID:60f52c77-23c0-42df-b463-979b9013538a
DTSTART:20260430T220000Z
DTEND:20260503T220000Z
LOCATION:Localisation Halle des sports, rue Leon Blum 45800 SAINT JEAN DE BRAYE
CATEGORIES:Sportif
STATUS:
URL;VALUE=URI:https://www.astamaris-gym.com/evenements/2026/05/01/championnat-regional-par-equipes-federale-a-finalite-regional-2440965
END:VEVENT
END:VCALENDAR
