BEGIN:VCALENDAR
VERSION:2.0
PRODID:-//hacksw/handcal//NONSGML v1.0//EN
BEGIN:VEVENT
SUMMARY:Championnat Regional individuel
UID:a022690a-1de7-48a5-af8c-0b4bf788e760
DTSTART:20260508T220000Z
DTEND:20260510T220000Z
LOCATION:Localisation  28400 Nogent le rotrou
CATEGORIES:Sportif
STATUS:
URL;VALUE=URI:https://www.astamaris-gym.com/evenements/2026/05/09/championnat-regional-individuel-2440966
END:VEVENT
END:VCALENDAR
