BEGIN:VCALENDAR
VERSION:2.0
PRODID:-//hacksw/handcal//NONSGML v1.0//EN
BEGIN:VEVENT
SUMMARY:Championnat Regional par equipes Federale B
UID:8c9cbd5b-b5aa-4ff7-851c-bbf5e3b6842d
DTSTART:20260515T220000Z
DTEND:20260517T220000Z
LOCATION:Localisation Parc de Bellevue 18100 Vierzon
CATEGORIES:Sportif
STATUS:
URL;VALUE=URI:https://www.astamaris-gym.com/evenements/2026/05/16/championnat-regional-par-equipes-federale-b-2440967
END:VEVENT
END:VCALENDAR
