BEGIN:VCALENDAR
VERSION:2.0
PRODID:-//hacksw/handcal//NONSGML v1.0//EN
BEGIN:VEVENT
SUMMARY:Trophee Federale A
UID:358a3aa0-eb9c-47ab-b5dc-87006c4eafd1
DTSTART:20260521T220000Z
DTEND:20260524T220000Z
LOCATION:Localisation L'acclameur 79000 Niort
CATEGORIES:Sportif
STATUS:
URL;VALUE=URI:https://www.astamaris-gym.com/evenements/2026/05/22/trophee-federale-a-2440970
END:VEVENT
END:VCALENDAR
