BEGIN:VCALENDAR
VERSION:2.0
PRODID:-//hacksw/handcal//NONSGML v1.0//EN
BEGIN:VEVENT
SUMMARY:Festigym
UID:f75f04b9-e8e0-4048-b86b-3eeda48cfdb1
DTSTART:20260528T220000Z
DTEND:20260531T220000Z
LOCATION:Localisation  49130 Les Ponts de Ce
CATEGORIES:Sportif
STATUS:
URL;VALUE=URI:https://www.astamaris-gym.com/evenements/2026/05/29/festigym-2440972
END:VEVENT
END:VCALENDAR
