BEGIN:VCALENDAR
VERSION:2.0
PRODID:-//hacksw/handcal//NONSGML v1.0//EN
BEGIN:VEVENT
SUMMARY:Fete du club
UID:10b81134-1b53-452c-a4da-1983140b5fce
DTSTART:20260626T220000Z
DTEND:20260628T220000Z
LOCATION:Localisation Halle des sports, rue Leon Blum 45800 SAINT JEAN DE BRAYE
CATEGORIES:Sportif
STATUS:
URL;VALUE=URI:https://www.astamaris-gym.com/evenements/2026/06/27/fete-du-club-2440973
END:VEVENT
END:VCALENDAR
